BEGIN:VCALENDAR
VERSION:2.0
PRODID:-//VermögensAkademie - ECPv6.15.20//NONSGML v1.0//EN
CALSCALE:GREGORIAN
METHOD:PUBLISH
X-ORIGINAL-URL:https://vermoegensakademie.at
X-WR-CALDESC:Veranstaltungen für VermögensAkademie
REFRESH-INTERVAL;VALUE=DURATION:PT1H
X-Robots-Tag:noindex
X-PUBLISHED-TTL:PT1H
BEGIN:VTIMEZONE
TZID:UTC
BEGIN:STANDARD
TZOFFSETFROM:+0000
TZOFFSETTO:+0000
TZNAME:UTC
DTSTART:20240101T000000
END:STANDARD
END:VTIMEZONE
BEGIN:VEVENT
DTSTART;TZID=UTC:20250516T183000
DTEND;TZID=UTC:20250516T200000
DTSTAMP:20260419T202000
CREATED:20250425T172625Z
LAST-MODIFIED:20250425T172716Z
UID:284-1747420200-1747425600@vermoegensakademie.at
SUMMARY:Masterclass Part 2 Online- bereits ausgebucht
DESCRIPTION:(geschlossene Veranstaltung ) \n\n\n\n💡 Geld ist nicht alles – aber ohne Geld ist vieles schwieriger.Doch warum schaffen es manche Menschen\, nachhaltig Vermögen aufzubauen\, während andere immer wieder bei Null anfangen? Die Antwort liegt in der richtigen Strategie\, einem starken Mindset und bewusster Kommunikation über Geld. \n\n\n\n✨ Was erwartet dich?🔹 Nachhaltiger Vermögensaufbau – Praktische Strategien für langfristige finanzielle Sicherheit \n\n\n\n🔹 Schlaue Investments: Aktien\, Optionen\, Kryptos-Bots & Immobilien – Welche Anlageformen sinnvoll sind und wie du sie gezielt für dich nutzen kannst \n\n\n\n🔹 Kommunikation & Money-Talks – Warum es entscheidend ist\, wie du über Geld sprichst – mit dir selbst und anderen \n\n\n\n🔹 Mindset & Geldglaubenssätze – Wie deine inneren Überzeugungen deinen finanziellen Erfolg beeinflussen \n\n\n\n🎤 Als Coach für Mindset & Kommunikation unterstütze wir Menschen dabei\, finanzielle Blockaden zu lösen\, Geld smarter zu nutzen und eine sichere finanzielle Zukunft aufzubauen. \n\n\n\n \n\n\n\nDatum: 16. Mai 2025 um 18:30 – 20:00 \n\n\n\nVeranstaltungsort: Live Zoom \n\n\n\nOrganisator: VermögensAkademie office@vermoegensakademie.at \n\n\n\n\n\n\n\n \n\n\n\n\n\n	Hinweis: Für diesen Inhalt ist JavaScript erforderlich.
URL:https://vermoegensakademie.at/event/masterclass-part-2-online-bereits-ausgebucht/
LOCATION:Wien
END:VEVENT
END:VCALENDAR