BEGIN:VCALENDAR
VERSION:2.0
PRODID:-//VermögensAkademie - ECPv6.15.20//NONSGML v1.0//EN
CALSCALE:GREGORIAN
METHOD:PUBLISH
X-ORIGINAL-URL:https://vermoegensakademie.at
X-WR-CALDESC:Veranstaltungen für VermögensAkademie
REFRESH-INTERVAL;VALUE=DURATION:PT1H
X-Robots-Tag:noindex
X-PUBLISHED-TTL:PT1H
BEGIN:VTIMEZONE
TZID:UTC
BEGIN:STANDARD
TZOFFSETFROM:+0000
TZOFFSETTO:+0000
TZNAME:UTC
DTSTART:20240101T000000
END:STANDARD
END:VTIMEZONE
BEGIN:VEVENT
DTSTART;TZID=UTC:20250409T180000
DTEND;TZID=UTC:20250409T193000
DTSTAMP:20260419T221535
CREATED:20250312T124821Z
LAST-MODIFIED:20250322T104505Z
UID:31-1744221600-1744227000@vermoegensakademie.at
SUMMARY:Info-Abend in 1070 Wien
DESCRIPTION:Nachhaltiger Vermögensaufbau: Mindset\, Kommunikation & schlaue Investments\n📢 Öffentlicher & kostenloser Infoabend \n💡 Geld ist nicht alles – aber ohne Geld ist vieles schwieriger.Doch warum schaffen es manche Menschen\, nachhaltig Vermögen aufzubauen\, während andere immer wieder bei Null anfangen? Die Antwort liegt in der richtigen Strategie\, einem starken Mindset und bewusster Kommunikation über Geld. \n✨ Was erwartet dich?🔹 Nachhaltiger Vermögensaufbau – Praktische Strategien für langfristige finanzielle Sicherheit \n🔹 Schlaue Investments: Aktien\, Optionen\, Kryptos-Bots & Immobilien – Welche Anlageformen sinnvoll sind und wie du sie gezielt für dich nutzen kannst \n🔹 Kommunikation & Money-Talks – Warum es entscheidend ist\, wie du über Geld sprichst – mit dir selbst und anderen \n🔹 Mindset & Geldglaubenssätze – Wie deine inneren Überzeugungen deinen finanziellen Erfolg beeinflussen \n🎤 Als Coach für Mindset & Kommunikation unterstütze wir Menschen dabei\, finanzielle Blockaden zu lösen\, Geld smarter zu nutzen und eine sichere finanzielle Zukunft aufzubauen. \n🔔 Jetzt kostenlos Platz sichern & finanziell durchstarten! \nDatum: 9. April 2025 um 18:00 – 19:30 \nVeranstaltungsort: Restaurant Hertz & Seele – Kirchberggasse 7\, 1070 Wien \nOrganisator: VermögensAkademie office@vermoegensakademie.at \n\n\n\n\n\n\n	Hinweis: Für diesen Inhalt ist JavaScript erforderlich.
URL:https://vermoegensakademie.at/event/nachhaltiger-vermoegensaufbau-mindset-kommunikation-schlaue-investments/
LOCATION:Wien
END:VEVENT
END:VCALENDAR